BEGIN:VCALENDAR
VERSION:2.0
PRODID:-// eRoom plugin //NONSGML v1.0//EN
CALSCALE:GREGORIAN
BEGIN:VEVENT
UID:eRoom-1776781831
SUMMARY:UK Vogue
LOCATION:
DESCRIPTIONShowroom dal vivo con lead Inglesi B2B per presentazione nuova collezione 2023
URL;VALUE=URI:https://wordpress.org/plugins/eroom-zoom-meetings-webinar/
DTSTART:20230616T130000Z
DTEND:20230616T134000Z
DTSTAMP:20260421T143031Z
BEGIN:VALARM
ACTION:DISPLAY
RIGGER;RELATED=START:-PT00H15M00S
BEGIN:VALARM
END:VEVENT
END:VCALENDAR